BEGIN:VCALENDAR
VERSION:2.0
PRODID:-//allcove - ECPv6.15.20//NONSGML v1.0//EN
CALSCALE:GREGORIAN
METHOD:PUBLISH
X-WR-CALNAME:allcove
X-ORIGINAL-URL:https://allcove.org
X-WR-CALDESC:Events for allcove
REFRESH-INTERVAL;VALUE=DURATION:PT1H
X-Robots-Tag:noindex
X-PUBLISHED-TTL:PT1H
BEGIN:VTIMEZONE
TZID:America/Los_Angeles
BEGIN:DAYLIGHT
TZOFFSETFROM:-0800
TZOFFSETTO:-0700
TZNAME:PDT
DTSTART:20230312T100000
END:DAYLIGHT
BEGIN:STANDARD
TZOFFSETFROM:-0700
TZOFFSETTO:-0800
TZNAME:PST
DTSTART:20231105T090000
END:STANDARD
BEGIN:DAYLIGHT
TZOFFSETFROM:-0800
TZOFFSETTO:-0700
TZNAME:PDT
DTSTART:20240310T100000
END:DAYLIGHT
BEGIN:STANDARD
TZOFFSETFROM:-0700
TZOFFSETTO:-0800
TZNAME:PST
DTSTART:20241103T090000
END:STANDARD
BEGIN:DAYLIGHT
TZOFFSETFROM:-0800
TZOFFSETTO:-0700
TZNAME:PDT
DTSTART:20250309T100000
END:DAYLIGHT
BEGIN:STANDARD
TZOFFSETFROM:-0700
TZOFFSETTO:-0800
TZNAME:PST
DTSTART:20251102T090000
END:STANDARD
END:VTIMEZONE
BEGIN:VEVENT
DTSTART;TZID=America/Los_Angeles:20240329T163000
DTEND;TZID=America/Los_Angeles:20240329T183000
DTSTAMP:20260424T024554
CREATED:20240131T172459Z
LAST-MODIFIED:20240131T172501Z
UID:10002087-1711729800-1711737000@allcove.org
SUMMARY:game night
DESCRIPTION:Join us for a night of fun and friendly competition at our game night. See you there!
URL:https://allcove.org/event/game-night-9/2024-03-29/
LOCATION:allcove San Mateo\, 2600 S El Camino Real Suite 300\, San Mateo\, CA\, 94403\, United States
CATEGORIES:allcove San Mateo,peer support
ATTACH;FMTTYPE=image/png:https://allcove.org/wp-content/uploads/2024/01/game-night-graphic.png
END:VEVENT
BEGIN:VEVENT
DTSTART;TZID=America/Los_Angeles:20240329T170000
DTEND;TZID=America/Los_Angeles:20240329T190000
DTSTAMP:20260424T024554
CREATED:20240205T194951Z
LAST-MODIFIED:20240205T194952Z
UID:10002103-1711731600-1711738800@allcove.org
SUMMARY:open mic night
DESCRIPTION:Calling all musicians\, original songwriters\, poets\, comedians and those seeking the limelight! We welcome all art forms and all forms of expression. We are a judgment-free zone and safe space for you to try out a new skill or show your support for others.  \n\n\n\nDrop-ins are always welcome. 
URL:https://allcove.org/event/open-mic-night-5/
LOCATION:allcove Beach Cities\, 514 North Prospect Avenue\, Suite 400\, Redondo Beach\, CA\, 90277\, United States
CATEGORIES:allcove Beach Cities,peer support
ATTACH;FMTTYPE=image/jpeg:https://allcove.org/wp-content/uploads/2023/09/tones.jpg
GEO:33.85354;-118.37881
X-APPLE-STRUCTURED-LOCATION;VALUE=URI;X-ADDRESS=allcove Beach Cities 514 North Prospect Avenue Suite 400 Redondo Beach CA 90277 United States;X-APPLE-RADIUS=500;X-TITLE=514 North Prospect Avenue\, Suite 400:geo:-118.37881,33.85354
END:VEVENT
END:VCALENDAR