BEGIN:VCALENDAR
VERSION:2.0
PRODID:-//allcove - ECPv6.15.20//NONSGML v1.0//EN
CALSCALE:GREGORIAN
METHOD:PUBLISH
X-WR-CALNAME:allcove
X-ORIGINAL-URL:https://allcove.org
X-WR-CALDESC:Events for allcove
REFRESH-INTERVAL;VALUE=DURATION:PT1H
X-Robots-Tag:noindex
X-PUBLISHED-TTL:PT1H
BEGIN:VTIMEZONE
TZID:America/Los_Angeles
BEGIN:DAYLIGHT
TZOFFSETFROM:-0800
TZOFFSETTO:-0700
TZNAME:PDT
DTSTART:20240310T100000
END:DAYLIGHT
BEGIN:STANDARD
TZOFFSETFROM:-0700
TZOFFSETTO:-0800
TZNAME:PST
DTSTART:20241103T090000
END:STANDARD
BEGIN:DAYLIGHT
TZOFFSETFROM:-0800
TZOFFSETTO:-0700
TZNAME:PDT
DTSTART:20250309T100000
END:DAYLIGHT
BEGIN:STANDARD
TZOFFSETFROM:-0700
TZOFFSETTO:-0800
TZNAME:PST
DTSTART:20251102T090000
END:STANDARD
BEGIN:DAYLIGHT
TZOFFSETFROM:-0800
TZOFFSETTO:-0700
TZNAME:PDT
DTSTART:20260308T100000
END:DAYLIGHT
BEGIN:STANDARD
TZOFFSETFROM:-0700
TZOFFSETTO:-0800
TZNAME:PST
DTSTART:20261101T090000
END:STANDARD
END:VTIMEZONE
BEGIN:VEVENT
DTSTART;TZID=America/Los_Angeles:20251203T150000
DTEND;TZID=America/Los_Angeles:20251203T180000
DTSTAMP:20260424T053745
CREATED:20251204T232211Z
LAST-MODIFIED:20251204T232213Z
UID:10005179-1764774000-1764784800@allcove.org
SUMMARY:bake it better
DESCRIPTION:Join us at allcove Palo Alto for Bake it Better\, a hands-on baking series where you’ll learn quick and easy desserts! Come connect with others\, build confidence in the kitchen\, and practice mindfulness. From gingerbread cookies to mini apple tarts\, we’ll make simple recipes that you can easily recreate at home\, no experience required!cinnamon rollsWednesday\, December 3rd3 – 6 pmgingerbread cookiesWednesday\, December 17th3 – 6 pmmini apple tartsWednesday\, December 31st3 – 6 pm
URL:https://allcove.org/event/bake-it-better/2025-12-03/
LOCATION:allcove Palo Alto\, 2741 Middlefield Road\, Suite 102\, Palo Alto\, CA\, 94306\, United States
CATEGORIES:allcove Palo Alto
ATTACH;FMTTYPE=image/jpeg:https://allcove.org/wp-content/uploads/2025/09/Website-Thumbnail-allcove-Palo-Alto.jpg
END:VEVENT
END:VCALENDAR