BEGIN:VCALENDAR
VERSION:2.0
PRODID:-//allcove - ECPv6.15.20//NONSGML v1.0//EN
CALSCALE:GREGORIAN
METHOD:PUBLISH
X-WR-CALNAME:allcove
X-ORIGINAL-URL:https://allcove.org
X-WR-CALDESC:Events for allcove
REFRESH-INTERVAL;VALUE=DURATION:PT1H
X-Robots-Tag:noindex
X-PUBLISHED-TTL:PT1H
BEGIN:VTIMEZONE
TZID:America/Los_Angeles
BEGIN:DAYLIGHT
TZOFFSETFROM:-0800
TZOFFSETTO:-0700
TZNAME:PDT
DTSTART:20240310T100000
END:DAYLIGHT
BEGIN:STANDARD
TZOFFSETFROM:-0700
TZOFFSETTO:-0800
TZNAME:PST
DTSTART:20241103T090000
END:STANDARD
BEGIN:DAYLIGHT
TZOFFSETFROM:-0800
TZOFFSETTO:-0700
TZNAME:PDT
DTSTART:20250309T100000
END:DAYLIGHT
BEGIN:STANDARD
TZOFFSETFROM:-0700
TZOFFSETTO:-0800
TZNAME:PST
DTSTART:20251102T090000
END:STANDARD
BEGIN:DAYLIGHT
TZOFFSETFROM:-0800
TZOFFSETTO:-0700
TZNAME:PDT
DTSTART:20260308T100000
END:DAYLIGHT
BEGIN:STANDARD
TZOFFSETFROM:-0700
TZOFFSETTO:-0800
TZNAME:PST
DTSTART:20261101T090000
END:STANDARD
END:VTIMEZONE
BEGIN:VEVENT
DTSTART;TZID=America/Los_Angeles:20251204T160000
DTEND;TZID=America/Los_Angeles:20251204T180000
DTSTAMP:20260424T041314
CREATED:20251204T232455Z
LAST-MODIFIED:20251204T232513Z
UID:10005184-1764864000-1764871200@allcove.org
SUMMARY:cozy yarn club
DESCRIPTION:Join us at allcove Palo Alto to unwind and get creative with yarn in a cozy\, welcoming space. Whether you’re a pro or just getting started\, come stitch\, chat\, and relax with us!
URL:https://allcove.org/event/cozy-yarn-club/2025-12-04/
LOCATION:allcove Palo Alto\, 2741 Middlefield Road\, Suite 102\, Palo Alto\, CA\, 94306\, United States
CATEGORIES:allcove Palo Alto
ATTACH;FMTTYPE=image/jpeg:https://allcove.org/wp-content/uploads/2025/09/Website-Thumbnail-allcove-Palo-Alto.jpg
END:VEVENT
BEGIN:VEVENT
DTSTART;TZID=America/Los_Angeles:20251204T163000
DTEND;TZID=America/Los_Angeles:20251204T173000
DTSTAMP:20260424T041314
CREATED:20251112T003414Z
LAST-MODIFIED:20251112T003417Z
UID:10005144-1764865800-1764869400@allcove.org
SUMMARY:wisdom seekers 
DESCRIPTION:Explore the depths of the universal unknown with your friends and peers as you embark on an inner journey of engaging connection and trading experience. 
URL:https://allcove.org/event/wisdom-seekers-9/
LOCATION:allcove Beach Cities\, 514 North Prospect Avenue\, Suite 400\, Redondo Beach\, CA\, 90277\, United States
CATEGORIES:allcove Beach Cities
ATTACH;FMTTYPE=image/png:https://allcove.org/wp-content/uploads/2025/11/allcove-mindfulness-web-Aja-Jordan.png
GEO:33.85354;-118.37881
X-APPLE-STRUCTURED-LOCATION;VALUE=URI;X-ADDRESS=allcove Beach Cities 514 North Prospect Avenue Suite 400 Redondo Beach CA 90277 United States;X-APPLE-RADIUS=500;X-TITLE=514 North Prospect Avenue\, Suite 400:geo:-118.37881,33.85354
END:VEVENT
BEGIN:VEVENT
DTSTART;TZID=America/Los_Angeles:20251204T163000
DTEND;TZID=America/Los_Angeles:20251204T180000
DTSTAMP:20260424T041314
CREATED:20251112T003607Z
LAST-MODIFIED:20251112T003610Z
UID:10005145-1764865800-1764871200@allcove.org
SUMMARY:handmade holiday event 
DESCRIPTION:Come join us at our handmade holiday event where you’ll have the chance to make beautiful\, handcrafted gifts that your loved ones will cherish. We will provider all the supplies for homemade candles\, jewelry & art pieces. Gift wrapping and homemade cards will also be available. 
URL:https://allcove.org/event/handmade-holiday-event/
LOCATION:allcove Beach Cities\, 514 North Prospect Avenue\, Suite 400\, Redondo Beach\, CA\, 90277\, United States
CATEGORIES:allcove Beach Cities
ATTACH;FMTTYPE=image/jpeg:https://allcove.org/wp-content/uploads/2025/11/allcove_events-handmadeholiday-Aja-Jordan.jpg
GEO:33.85354;-118.37881
X-APPLE-STRUCTURED-LOCATION;VALUE=URI;X-ADDRESS=allcove Beach Cities 514 North Prospect Avenue Suite 400 Redondo Beach CA 90277 United States;X-APPLE-RADIUS=500;X-TITLE=514 North Prospect Avenue\, Suite 400:geo:-118.37881,33.85354
END:VEVENT
BEGIN:VEVENT
DTSTART;TZID=America/Los_Angeles:20251204T170000
DTEND;TZID=America/Los_Angeles:20251204T183000
DTSTAMP:20260424T041314
CREATED:20251126T232312Z
LAST-MODIFIED:20251126T232316Z
UID:10005159-1764867600-1764873000@allcove.org
SUMMARY:gingerbread house competition
DESCRIPTION:Team up with a friend for a gingerbread house building contest here at the cove!
URL:https://allcove.org/event/gingerbread-house-competition/
LOCATION:allcove San Juan Capistrano\, 27125 Calle Arroyo\, San Juan Capistrano\, CA\, 92675\, United States
CATEGORIES:allcove San Juan Capistrano
ATTACH;FMTTYPE=image/png:https://allcove.org/wp-content/uploads/2025/11/Screenshot-2025-11-11-at-4.09.53-PM.png
END:VEVENT
END:VCALENDAR