BEGIN:VCALENDAR
VERSION:2.0
PRODID:-//allcove - ECPv6.15.20//NONSGML v1.0//EN
CALSCALE:GREGORIAN
METHOD:PUBLISH
X-ORIGINAL-URL:https://allcove.org
X-WR-CALDESC:Events for allcove
REFRESH-INTERVAL;VALUE=DURATION:PT1H
X-Robots-Tag:noindex
X-PUBLISHED-TTL:PT1H
BEGIN:VTIMEZONE
TZID:America/Los_Angeles
BEGIN:DAYLIGHT
TZOFFSETFROM:-0800
TZOFFSETTO:-0700
TZNAME:PDT
DTSTART:20240310T100000
END:DAYLIGHT
BEGIN:STANDARD
TZOFFSETFROM:-0700
TZOFFSETTO:-0800
TZNAME:PST
DTSTART:20241103T090000
END:STANDARD
BEGIN:DAYLIGHT
TZOFFSETFROM:-0800
TZOFFSETTO:-0700
TZNAME:PDT
DTSTART:20250309T100000
END:DAYLIGHT
BEGIN:STANDARD
TZOFFSETFROM:-0700
TZOFFSETTO:-0800
TZNAME:PST
DTSTART:20251102T090000
END:STANDARD
BEGIN:DAYLIGHT
TZOFFSETFROM:-0800
TZOFFSETTO:-0700
TZNAME:PDT
DTSTART:20260308T100000
END:DAYLIGHT
BEGIN:STANDARD
TZOFFSETFROM:-0700
TZOFFSETTO:-0800
TZNAME:PST
DTSTART:20261101T090000
END:STANDARD
END:VTIMEZONE
BEGIN:VEVENT
DTSTART;TZID=America/Los_Angeles:20251216T140000
DTEND;TZID=America/Los_Angeles:20251216T180000
DTSTAMP:20260424T042031
CREATED:20251204T233117Z
LAST-MODIFIED:20251204T233119Z
UID:10005195-1765893600-1765908000@allcove.org
SUMMARY:seasonal sips
DESCRIPTION:Join us at allcove Palo Alto and come warm up at allcove and enjoy a cozy drink to enjoy during the winter time. Sip from a variety of cozy drinks from hot chocolate to spiced apple cider and other seasonal favorites!french hot chocolateTuesday\, December 2ndstarting 2pmlondon fog teaTuesday\, December 9thstarting 2pmspiced apple ciderTuesday\, December 16thstarting 2pmeggnogTuesday\, December 23rdstarting 2pmnon-alcoholic sparkling apple ciderTuesday\, December 30thstarting 2pm
URL:https://allcove.org/event/seasonal-sips/2025-12-16/
LOCATION:allcove Palo Alto\, 2741 Middlefield Road\, Suite 102\, Palo Alto\, CA\, 94306\, United States
CATEGORIES:allcove Palo Alto
ATTACH;FMTTYPE=image/jpeg:https://allcove.org/wp-content/uploads/2025/09/Website-Thumbnail-allcove-Palo-Alto.jpg
END:VEVENT
BEGIN:VEVENT
DTSTART;TZID=America/Los_Angeles:20251216T163000
DTEND;TZID=America/Los_Angeles:20251216T173000
DTSTAMP:20260424T042031
CREATED:20251021T233700Z
LAST-MODIFIED:20251113T212122Z
UID:10004868-1765902600-1765906200@allcove.org
SUMMARY:gingerbread house decorating workshop
DESCRIPTION:Build\, decorate\, and personalize your own festive gingerbread house! All materials are provided\, just bring your creativity!
URL:https://allcove.org/event/gingerbread-house-decorating-workshop/
LOCATION:allcove San Mateo\, 2600 S El Camino Real Suite 300\, San Mateo\, CA\, 94403\, United States
CATEGORIES:allcove San Mateo
ATTACH;FMTTYPE=image/png:https://allcove.org/wp-content/uploads/2025/10/gingerbread-house-decorating-workshop-website-graphic-1-Isabella-Tablante.png
END:VEVENT
BEGIN:VEVENT
DTSTART;TZID=America/Los_Angeles:20251216T174500
DTEND;TZID=America/Los_Angeles:20251216T184500
DTSTAMP:20260424T042031
CREATED:20250806T184950Z
LAST-MODIFIED:20250806T184953Z
UID:10004199-1765907100-1765910700@allcove.org
SUMMARY:grupo de apoyo para padres
DESCRIPTION:Únete a nuestro grupo de apoyo para padres una vez a la semana para conectarte con otras personas que entienden por lo que estás pasando.Este espacio está diseñado para que los padres compartan experiencias\, aprendan estrategias prácticas y encuentren fortaleza en la comunidad. Juntos exploraremos maneras de brindar un mejor apoyo a su hijo/hija—y a nosotros mismos—en cada paso del camino. \n\n\n\nQué Puedes Esperar: \n\n\n\n\nConfidencialidad\n\n\n\nConversaciones abiertas y respetuosas\n\n\n\nApoyo y consejos de otros padres
URL:https://allcove.org/event/grupo-de-apoyo-para-padres/2025-12-16/
LOCATION:allcove San Mateo\, 2600 S El Camino Real Suite 300\, San Mateo\, CA\, 94403\, United States
CATEGORIES:allcove San Mateo,family support
ATTACH;FMTTYPE=image/png:https://allcove.org/wp-content/uploads/2025/08/grupo-de-apoyo-para-padres-1-Isabella-Tablante.png
END:VEVENT
END:VCALENDAR