BEGIN:VCALENDAR
VERSION:2.0
PRODID:-//allcove - ECPv6.15.20//NONSGML v1.0//EN
CALSCALE:GREGORIAN
METHOD:PUBLISH
X-ORIGINAL-URL:https://allcove.org
X-WR-CALDESC:Events for allcove
REFRESH-INTERVAL;VALUE=DURATION:PT1H
X-Robots-Tag:noindex
X-PUBLISHED-TTL:PT1H
BEGIN:VTIMEZONE
TZID:America/Los_Angeles
BEGIN:DAYLIGHT
TZOFFSETFROM:-0800
TZOFFSETTO:-0700
TZNAME:PDT
DTSTART:20240310T100000
END:DAYLIGHT
BEGIN:STANDARD
TZOFFSETFROM:-0700
TZOFFSETTO:-0800
TZNAME:PST
DTSTART:20241103T090000
END:STANDARD
BEGIN:DAYLIGHT
TZOFFSETFROM:-0800
TZOFFSETTO:-0700
TZNAME:PDT
DTSTART:20250309T100000
END:DAYLIGHT
BEGIN:STANDARD
TZOFFSETFROM:-0700
TZOFFSETTO:-0800
TZNAME:PST
DTSTART:20251102T090000
END:STANDARD
BEGIN:DAYLIGHT
TZOFFSETFROM:-0800
TZOFFSETTO:-0700
TZNAME:PDT
DTSTART:20260308T100000
END:DAYLIGHT
BEGIN:STANDARD
TZOFFSETFROM:-0700
TZOFFSETTO:-0800
TZNAME:PST
DTSTART:20261101T090000
END:STANDARD
END:VTIMEZONE
BEGIN:VEVENT
DTSTART;TZID=America/Los_Angeles:20251217T150000
DTEND;TZID=America/Los_Angeles:20251217T180000
DTSTAMP:20260424T053947
CREATED:20251204T232211Z
LAST-MODIFIED:20251204T232213Z
UID:10005180-1765983600-1765994400@allcove.org
SUMMARY:bake it better
DESCRIPTION:Join us at allcove Palo Alto for Bake it Better\, a hands-on baking series where you’ll learn quick and easy desserts! Come connect with others\, build confidence in the kitchen\, and practice mindfulness. From gingerbread cookies to mini apple tarts\, we’ll make simple recipes that you can easily recreate at home\, no experience required!cinnamon rollsWednesday\, December 3rd3 – 6 pmgingerbread cookiesWednesday\, December 17th3 – 6 pmmini apple tartsWednesday\, December 31st3 – 6 pm
URL:https://allcove.org/event/bake-it-better/2025-12-17/
LOCATION:allcove Palo Alto\, 2741 Middlefield Road\, Suite 102\, Palo Alto\, CA\, 94306\, United States
CATEGORIES:allcove Palo Alto
ATTACH;FMTTYPE=image/jpeg:https://allcove.org/wp-content/uploads/2025/09/Website-Thumbnail-allcove-Palo-Alto.jpg
END:VEVENT
BEGIN:VEVENT
DTSTART;TZID=America/Los_Angeles:20251217T170000
DTEND;TZID=America/Los_Angeles:20251217T180000
DTSTAMP:20260424T053947
CREATED:20250925T015932Z
LAST-MODIFIED:20250925T015936Z
UID:10004843-1765990800-1765994400@allcove.org
SUMMARY:kara support group
DESCRIPTION:Join us at allcove Palo Alto for a support group co-hosted with Kara to provide a safe and open space to process grief with others who understand loss.Kara is a local non-profit with a mission to lead the community in providing grief support.Wednesday\, October 22nd Overview and misconceptions about grief 5-6pmWednesday\, December 17thGrief and the holidays\, building new traditions while honoring our person5-6pm 
URL:https://allcove.org/event/kara-support-group/2025-12-17/
LOCATION:allcove Palo Alto\, 2741 Middlefield Road\, Suite 102\, Palo Alto\, CA\, 94306\, United States
CATEGORIES:allcove Palo Alto
ATTACH;FMTTYPE=image/jpeg:https://allcove.org/wp-content/uploads/2025/09/Website-Thumbnail-allcove-Palo-Alto.jpg
END:VEVENT
BEGIN:VEVENT
DTSTART;TZID=America/Los_Angeles:20251217T170000
DTEND;TZID=America/Los_Angeles:20251217T180000
DTSTAMP:20260424T053947
CREATED:20251204T232330Z
LAST-MODIFIED:20251204T233421Z
UID:10005182-1765990800-1765994400@allcove.org
SUMMARY:Kara grief support
DESCRIPTION:Join us at allcove Palo Alto for a support group co-hosted with Kara to provide a safe and open space to process grief with others who understand loss. Kara is a local non-profit with a mission to lead the community in providing grief support. Drop-ins are welcome!Join us as we sip hot chocolate\, discuss the holidays\, and find new ways to honor our grief. We will makeornaments and enjoy each other’s company as we prepare to say goodbye to 2025.Activity: Felt Ornaments
URL:https://allcove.org/event/kara-grief-support/
LOCATION:allcove Palo Alto\, 2741 Middlefield Road\, Suite 102\, Palo Alto\, CA\, 94306\, United States
CATEGORIES:allcove Palo Alto
ATTACH;FMTTYPE=image/jpeg:https://allcove.org/wp-content/uploads/2025/09/Website-Thumbnail-allcove-Palo-Alto.jpg
END:VEVENT
BEGIN:VEVENT
DTSTART;TZID=America/Los_Angeles:20251217T170000
DTEND;TZID=America/Los_Angeles:20251217T183000
DTSTAMP:20260424T053947
CREATED:20251126T233412Z
LAST-MODIFIED:20251126T233415Z
UID:10005165-1765990800-1765996200@allcove.org
SUMMARY:make it\, gift it
DESCRIPTION:Join us to make a DIY gift for your friends and family this holiday season
URL:https://allcove.org/event/make-it-gift-it/
LOCATION:allcove San Juan Capistrano\, 27125 Calle Arroyo\, San Juan Capistrano\, CA\, 92675\, United States
CATEGORIES:allcove San Juan Capistrano
ATTACH;FMTTYPE=image/png:https://allcove.org/wp-content/uploads/2025/11/Screenshot-2025-11-11-at-4.09.53-PM.png
END:VEVENT
END:VCALENDAR