BEGIN:VCALENDAR
VERSION:2.0
PRODID:-//allcove - ECPv6.15.20//NONSGML v1.0//EN
CALSCALE:GREGORIAN
METHOD:PUBLISH
X-WR-CALNAME:allcove
X-ORIGINAL-URL:https://allcove.org
X-WR-CALDESC:Events for allcove
REFRESH-INTERVAL;VALUE=DURATION:PT1H
X-Robots-Tag:noindex
X-PUBLISHED-TTL:PT1H
BEGIN:VTIMEZONE
TZID:America/Los_Angeles
BEGIN:DAYLIGHT
TZOFFSETFROM:-0800
TZOFFSETTO:-0700
TZNAME:PDT
DTSTART:20250309T100000
END:DAYLIGHT
BEGIN:STANDARD
TZOFFSETFROM:-0700
TZOFFSETTO:-0800
TZNAME:PST
DTSTART:20251102T090000
END:STANDARD
BEGIN:DAYLIGHT
TZOFFSETFROM:-0800
TZOFFSETTO:-0700
TZNAME:PDT
DTSTART:20260308T100000
END:DAYLIGHT
BEGIN:STANDARD
TZOFFSETFROM:-0700
TZOFFSETTO:-0800
TZNAME:PST
DTSTART:20261101T090000
END:STANDARD
BEGIN:DAYLIGHT
TZOFFSETFROM:-0800
TZOFFSETTO:-0700
TZNAME:PDT
DTSTART:20270314T100000
END:DAYLIGHT
BEGIN:STANDARD
TZOFFSETFROM:-0700
TZOFFSETTO:-0800
TZNAME:PST
DTSTART:20271107T090000
END:STANDARD
END:VTIMEZONE
BEGIN:VEVENT
DTSTART;TZID=America/Los_Angeles:20260129T170000
DTEND;TZID=America/Los_Angeles:20260129T180000
DTSTAMP:20260425T124551
CREATED:20251105T184744Z
LAST-MODIFIED:20251119T192005Z
UID:10004879-1769706000-1769709600@allcove.org
SUMMARY:tech safety in relationships workshop
DESCRIPTION:Technology is part of relationships but can sometimes be misused. Learn practical ways to protect your privacy\, set digital boundaries\, and recognize tech-based manipulation or abuse. This event is in collaboration with CORA.CORA’s YEA program focuses on youth dating violence protection and intervention. They offer workshops and tools to help teens understand healthy relationships\, tech safety\, consent\, and abuse prevention.
URL:https://allcove.org/event/tech-safety-in-relationships-workshop/
LOCATION:allcove San Mateo\, 2600 S El Camino Real Suite 300\, San Mateo\, CA\, 94403\, United States
CATEGORIES:allcove San Mateo
ATTACH;FMTTYPE=image/png:https://allcove.org/wp-content/uploads/2025/11/tech-safety-in-relationships-website-graphic-Isabella-Tablante.png
END:VEVENT
END:VCALENDAR