BEGIN:VCALENDAR
VERSION:2.0
PRODID:-//allcove - ECPv6.15.20//NONSGML v1.0//EN
CALSCALE:GREGORIAN
METHOD:PUBLISH
X-WR-CALNAME:allcove
X-ORIGINAL-URL:https://allcove.org
X-WR-CALDESC:Events for allcove
REFRESH-INTERVAL;VALUE=DURATION:PT1H
X-Robots-Tag:noindex
X-PUBLISHED-TTL:PT1H
BEGIN:VTIMEZONE
TZID:America/Los_Angeles
BEGIN:DAYLIGHT
TZOFFSETFROM:-0800
TZOFFSETTO:-0700
TZNAME:PDT
DTSTART:20250309T100000
END:DAYLIGHT
BEGIN:STANDARD
TZOFFSETFROM:-0700
TZOFFSETTO:-0800
TZNAME:PST
DTSTART:20251102T090000
END:STANDARD
BEGIN:DAYLIGHT
TZOFFSETFROM:-0800
TZOFFSETTO:-0700
TZNAME:PDT
DTSTART:20260308T100000
END:DAYLIGHT
BEGIN:STANDARD
TZOFFSETFROM:-0700
TZOFFSETTO:-0800
TZNAME:PST
DTSTART:20261101T090000
END:STANDARD
BEGIN:DAYLIGHT
TZOFFSETFROM:-0800
TZOFFSETTO:-0700
TZNAME:PDT
DTSTART:20270314T100000
END:DAYLIGHT
BEGIN:STANDARD
TZOFFSETFROM:-0700
TZOFFSETTO:-0800
TZNAME:PST
DTSTART:20271107T090000
END:STANDARD
END:VTIMEZONE
BEGIN:VEVENT
DTSTART;TZID=America/Los_Angeles:20260423T160000
DTEND;TZID=America/Los_Angeles:20260423T173000
DTSTAMP:20260423T042508
CREATED:20260413T183609Z
LAST-MODIFIED:20260413T183612Z
UID:10005335-1776960000-1776965400@allcove.org
SUMMARY:youth social networking
DESCRIPTION:Come hang out\, meet new people\, and build connections at our social networking!
URL:https://allcove.org/event/youth-social-networking/
LOCATION:allcove sacramento\, 2331 Alhambra Blvd Suite 103\, Sacramento\, California\, 95817\, United States
CATEGORIES:allcove Sacramento
ATTACH;FMTTYPE=image/png:https://allcove.org/wp-content/uploads/2025/11/website-cover-Priyanka-Kumar.png
END:VEVENT
BEGIN:VEVENT
DTSTART;TZID=America/Los_Angeles:20260423T170000
DTEND;TZID=America/Los_Angeles:20260423T183000
DTSTAMP:20260423T042508
CREATED:20260326T234552Z
LAST-MODIFIED:20260326T234555Z
UID:10005328-1776963600-1776969000@allcove.org
SUMMARY:painting in the cove: watercolor landscapes 
DESCRIPTION:Isn’t Earth beautiful? Slow down and paint the world around you. Join Fiona\, a Los Angeles painter whose vivid\, large-scale oil works blend classical realism with the surreal textures of digital interference and dream logic\, for a guided watercolor session inspired by natural landscapes — oceans\, skies\, mountains\, and everything in between. No experience needed. This workshop is about experimenting with color\, finding calm through creativity\, and appreciating the beauty of our planet. All materials provided. Just bring yourself and your imagination.
URL:https://allcove.org/event/painting-in-the-cove-watercolor-landscapes/
LOCATION:allcove Beach Cities\, 514 North Prospect Avenue\, Suite 400\, Redondo Beach\, CA\, 90277\, United States
CATEGORIES:allcove Beach Cities
ATTACH;FMTTYPE=image/jpeg:https://allcove.org/wp-content/uploads/2023/05/paintandpause.jpg
GEO:33.85354;-118.37881
X-APPLE-STRUCTURED-LOCATION;VALUE=URI;X-ADDRESS=allcove Beach Cities 514 North Prospect Avenue Suite 400 Redondo Beach CA 90277 United States;X-APPLE-RADIUS=500;X-TITLE=514 North Prospect Avenue\, Suite 400:geo:-118.37881,33.85354
END:VEVENT
END:VCALENDAR