BEGIN:VCALENDAR
VERSION:2.0
PRODID:-//allcove - ECPv6.15.20//NONSGML v1.0//EN
CALSCALE:GREGORIAN
METHOD:PUBLISH
X-WR-CALNAME:allcove
X-ORIGINAL-URL:https://allcove.org
X-WR-CALDESC:Events for allcove
REFRESH-INTERVAL;VALUE=DURATION:PT1H
X-Robots-Tag:noindex
X-PUBLISHED-TTL:PT1H
BEGIN:VTIMEZONE
TZID:America/Los_Angeles
BEGIN:DAYLIGHT
TZOFFSETFROM:-0800
TZOFFSETTO:-0700
TZNAME:PDT
DTSTART:20220313T100000
END:DAYLIGHT
BEGIN:STANDARD
TZOFFSETFROM:-0700
TZOFFSETTO:-0800
TZNAME:PST
DTSTART:20221106T090000
END:STANDARD
BEGIN:DAYLIGHT
TZOFFSETFROM:-0800
TZOFFSETTO:-0700
TZNAME:PDT
DTSTART:20230312T100000
END:DAYLIGHT
BEGIN:STANDARD
TZOFFSETFROM:-0700
TZOFFSETTO:-0800
TZNAME:PST
DTSTART:20231105T090000
END:STANDARD
BEGIN:DAYLIGHT
TZOFFSETFROM:-0800
TZOFFSETTO:-0700
TZNAME:PDT
DTSTART:20240310T100000
END:DAYLIGHT
BEGIN:STANDARD
TZOFFSETFROM:-0700
TZOFFSETTO:-0800
TZNAME:PST
DTSTART:20241103T090000
END:STANDARD
BEGIN:DAYLIGHT
TZOFFSETFROM:-0800
TZOFFSETTO:-0700
TZNAME:PDT
DTSTART:20250309T100000
END:DAYLIGHT
BEGIN:STANDARD
TZOFFSETFROM:-0700
TZOFFSETTO:-0800
TZNAME:PST
DTSTART:20251102T090000
END:STANDARD
BEGIN:DAYLIGHT
TZOFFSETFROM:-0800
TZOFFSETTO:-0700
TZNAME:PDT
DTSTART:20260308T100000
END:DAYLIGHT
BEGIN:STANDARD
TZOFFSETFROM:-0700
TZOFFSETTO:-0800
TZNAME:PST
DTSTART:20261101T090000
END:STANDARD
END:VTIMEZONE
BEGIN:VEVENT
DTSTART;TZID=America/Los_Angeles:20251014T100000
DTEND;TZID=America/Los_Angeles:20251014T110000
DTSTAMP:20260425T060521
CREATED:20250708T212726Z
LAST-MODIFIED:20250708T212728Z
UID:10004815-1760436000-1760439600@allcove.org
SUMMARY:virtual families connected parent chat
DESCRIPTION:Monthly support group open to all South Bay parents and caregivers that provides a supportive space to share parenting challenges and successes.  Zoom link: https://us06web.zoom.us/j/87374623578
URL:https://allcove.org/event/virtual-families-connected-parent-chat/2025-10-14/
LOCATION:allcove online
CATEGORIES:allcove online,family support
ATTACH;FMTTYPE=image/jpeg:https://allcove.org/wp-content/uploads/2023/11/parentchat_webevent.jpg
END:VEVENT
BEGIN:VEVENT
DTSTART;TZID=America/Los_Angeles:20250909T100000
DTEND;TZID=America/Los_Angeles:20250909T110000
DTSTAMP:20260425T060521
CREATED:20250708T212726Z
LAST-MODIFIED:20250708T212728Z
UID:10003652-1757412000-1757415600@allcove.org
SUMMARY:virtual families connected parent chat
DESCRIPTION:Monthly support group open to all South Bay parents and caregivers that provides a supportive space to share parenting challenges and successes.  Zoom link: https://us06web.zoom.us/j/87374623578
URL:https://allcove.org/event/virtual-families-connected-parent-chat/2025-09-09/
LOCATION:allcove online
CATEGORIES:allcove online,family support
ATTACH;FMTTYPE=image/jpeg:https://allcove.org/wp-content/uploads/2023/11/parentchat_webevent.jpg
END:VEVENT
BEGIN:VEVENT
DTSTART;TZID=America/Los_Angeles:20250812T100000
DTEND;TZID=America/Los_Angeles:20250812T110000
DTSTAMP:20260425T060521
CREATED:20250708T212726Z
LAST-MODIFIED:20250708T212728Z
UID:10003597-1754992800-1754996400@allcove.org
SUMMARY:virtual families connected parent chat
DESCRIPTION:Monthly support group open to all South Bay parents and caregivers that provides a supportive space to share parenting challenges and successes.  Zoom link: https://us06web.zoom.us/j/87374623578
URL:https://allcove.org/event/virtual-families-connected-parent-chat/2025-08-12/
LOCATION:allcove online
CATEGORIES:allcove online,family support
ATTACH;FMTTYPE=image/jpeg:https://allcove.org/wp-content/uploads/2023/11/parentchat_webevent.jpg
END:VEVENT
BEGIN:VEVENT
DTSTART;TZID=America/Los_Angeles:20250506T163000
DTEND;TZID=America/Los_Angeles:20250506T173000
DTSTAMP:20260425T060522
CREATED:20250419T225905Z
LAST-MODIFIED:20250419T225909Z
UID:10003332-1746549000-1746552600@allcove.org
SUMMARY:career readiness workshop
DESCRIPTION:Prepare for the next step in your career!  \n\n\n\nThis online workshop organized by our allcove San Mateo center and held via Zoom will help you build the confidence and skills needed to succeed in any career path. Join us for guidance\, support\, and practical tips to get you closer to your goals.  \n\n\n\nThis workshop is in collaboration with College of San Mateo.
URL:https://allcove.org/event/career-readiness-workshop-2/
LOCATION:allcove online
CATEGORIES:allcove online,education and employment
ATTACH;FMTTYPE=image/png:https://allcove.org/wp-content/uploads/2024/11/career-readiness-workshop-website-graphic.png
END:VEVENT
BEGIN:VEVENT
DTSTART;TZID=America/Los_Angeles:20250325T170000
DTEND;TZID=America/Los_Angeles:20250325T180000
DTSTAMP:20260425T060522
CREATED:20250314T010654Z
LAST-MODIFIED:20250314T011453Z
UID:10003222-1742922000-1742925600@allcove.org
SUMMARY:comfort in community
DESCRIPTION:Join us at allcove Palo Alto in a processing space as we reflect on current events\, identify strengths in community\, and coping skills. \n\n\n\n\nPlease note that this March 25 meeting will be virtual.
URL:https://allcove.org/event/comfort-in-community/
LOCATION:allcove online
CATEGORIES:allcove online,allcove Palo Alto,family support,mental health,peer support
ATTACH;FMTTYPE=image/png:https://allcove.org/wp-content/uploads/2025/03/comfortincommunity_allcovepaloalto.png
END:VEVENT
BEGIN:VEVENT
DTSTART;TZID=America/Los_Angeles:20250224T170000
DTEND;TZID=America/Los_Angeles:20250224T180000
DTSTAMP:20260425T060522
CREATED:20250218T030513Z
LAST-MODIFIED:20250218T030515Z
UID:10003160-1740416400-1740420000@allcove.org
SUMMARY:virtual: discover SEE
DESCRIPTION:Curious about how our supported education and employment services can help you reach your goals? Join our online information sessions to learn more. \n\n\n\n\nThis session is for community members\, educators\, adult allies\, and caregivers. \n\n\n\n\nSupported education and employment can provide support with: \n\n\n\nEducation support \n\n\n\n\nCollege applications\n\n\n\nGrants and scholarship support\n\n\n\nVocational programs\n\n\n\n\nCareer coaching \n\n\n\n\nJob searching\n\n\n\nVolunteer and internship programs\n\n\n\nResume and interview support
URL:https://allcove.org/event/virtual-discover-see/
LOCATION:allcove Palo Alto\, 2741 Middlefield Road\, Suite 102\, Palo Alto\, CA\, 94306\, United States
CATEGORIES:allcove online,allcove Palo Alto,education and employment
ATTACH;FMTTYPE=image/png:https://allcove.org/wp-content/uploads/2025/02/allcove-Palo-Alto-discover-SEE-thumbnail.png
END:VEVENT
BEGIN:VEVENT
DTSTART;TZID=America/Los_Angeles:20241015T163000
DTEND;TZID=America/Los_Angeles:20241015T183000
DTSTAMP:20260425T060522
CREATED:20240828T201432Z
LAST-MODIFIED:20240928T222110Z
UID:10002420-1729009800-1729017000@allcove.org
SUMMARY:global diversity workshop
DESCRIPTION:Join us in this engaging and insightful session led by our Youth Advisory Group.  \n\n\n\nDuring our workshop\, we will explore the important connection between culture and mental health\, highlighting how cultural backgrounds\, traditions and values shape our mental health experiences and wellbeing. food from different cultures will be provided. \n\n\n\n\nPlease note: This is a hybrid event that is held both in person at allcove San Mateo and online.
URL:https://allcove.org/event/global-diversity-workshop/
LOCATION:allcove San Mateo\, 2600 S El Camino Real Suite 300\, San Mateo\, CA\, 94403\, United States
CATEGORIES:allcove online,allcove San Mateo,peer support
ATTACH;FMTTYPE=image/png:https://allcove.org/wp-content/uploads/2024/08/global-diversity-workshop-website-graphic.png
END:VEVENT
BEGIN:VEVENT
DTSTART;TZID=America/Los_Angeles:20240130T130000
DTEND;TZID=America/Los_Angeles:20240130T140000
DTSTAMP:20260425T060522
CREATED:20230810T222702Z
LAST-MODIFIED:20230817T234715Z
UID:10001908-1706619600-1706623200@allcove.org
SUMMARY:virtual group family coaching
DESCRIPTION:In this 12-week course\, you will achieve your own personal parenting transformation – to be an empowered parent using conscious parenting skills. You will have lifetime access to the Jai Institute for Parenting 12-Week program.
URL:https://allcove.org/event/virtual-group-family-coaching/2024-01-30/
LOCATION:allcove online
CATEGORIES:allcove Beach Cities,allcove online,family support
ATTACH;FMTTYPE=image/jpeg:https://allcove.org/wp-content/uploads/2023/08/familycoaching.jpg
END:VEVENT
BEGIN:VEVENT
DTSTART;TZID=America/Los_Angeles:20240123T130000
DTEND;TZID=America/Los_Angeles:20240123T140000
DTSTAMP:20260425T060522
CREATED:20230810T222702Z
LAST-MODIFIED:20230817T234715Z
UID:10001907-1706014800-1706018400@allcove.org
SUMMARY:virtual group family coaching
DESCRIPTION:In this 12-week course\, you will achieve your own personal parenting transformation – to be an empowered parent using conscious parenting skills. You will have lifetime access to the Jai Institute for Parenting 12-Week program.
URL:https://allcove.org/event/virtual-group-family-coaching/2024-01-23/
LOCATION:allcove online
CATEGORIES:allcove Beach Cities,allcove online,family support
ATTACH;FMTTYPE=image/jpeg:https://allcove.org/wp-content/uploads/2023/08/familycoaching.jpg
END:VEVENT
BEGIN:VEVENT
DTSTART;TZID=America/Los_Angeles:20240116T130000
DTEND;TZID=America/Los_Angeles:20240116T140000
DTSTAMP:20260425T060522
CREATED:20230810T222702Z
LAST-MODIFIED:20230817T234715Z
UID:10001906-1705410000-1705413600@allcove.org
SUMMARY:virtual group family coaching
DESCRIPTION:In this 12-week course\, you will achieve your own personal parenting transformation – to be an empowered parent using conscious parenting skills. You will have lifetime access to the Jai Institute for Parenting 12-Week program.
URL:https://allcove.org/event/virtual-group-family-coaching/2024-01-16/
LOCATION:allcove online
CATEGORIES:allcove Beach Cities,allcove online,family support
ATTACH;FMTTYPE=image/jpeg:https://allcove.org/wp-content/uploads/2023/08/familycoaching.jpg
END:VEVENT
BEGIN:VEVENT
DTSTART;TZID=America/Los_Angeles:20240109T130000
DTEND;TZID=America/Los_Angeles:20240109T140000
DTSTAMP:20260425T060522
CREATED:20230810T222702Z
LAST-MODIFIED:20230817T234715Z
UID:10001905-1704805200-1704808800@allcove.org
SUMMARY:virtual group family coaching
DESCRIPTION:In this 12-week course\, you will achieve your own personal parenting transformation – to be an empowered parent using conscious parenting skills. You will have lifetime access to the Jai Institute for Parenting 12-Week program.
URL:https://allcove.org/event/virtual-group-family-coaching/2024-01-09/
LOCATION:allcove online
CATEGORIES:allcove Beach Cities,allcove online,family support
ATTACH;FMTTYPE=image/jpeg:https://allcove.org/wp-content/uploads/2023/08/familycoaching.jpg
END:VEVENT
BEGIN:VEVENT
DTSTART;TZID=America/Los_Angeles:20240102T130000
DTEND;TZID=America/Los_Angeles:20240102T140000
DTSTAMP:20260425T060522
CREATED:20230810T222702Z
LAST-MODIFIED:20230817T234715Z
UID:10001904-1704200400-1704204000@allcove.org
SUMMARY:virtual group family coaching
DESCRIPTION:In this 12-week course\, you will achieve your own personal parenting transformation – to be an empowered parent using conscious parenting skills. You will have lifetime access to the Jai Institute for Parenting 12-Week program.
URL:https://allcove.org/event/virtual-group-family-coaching/2024-01-02/
LOCATION:allcove online
CATEGORIES:allcove Beach Cities,allcove online,family support
ATTACH;FMTTYPE=image/jpeg:https://allcove.org/wp-content/uploads/2023/08/familycoaching.jpg
END:VEVENT
BEGIN:VEVENT
DTSTART;TZID=America/Los_Angeles:20231226T130000
DTEND;TZID=America/Los_Angeles:20231226T140000
DTSTAMP:20260425T060522
CREATED:20230810T222702Z
LAST-MODIFIED:20230817T234715Z
UID:10001903-1703595600-1703599200@allcove.org
SUMMARY:virtual group family coaching
DESCRIPTION:In this 12-week course\, you will achieve your own personal parenting transformation – to be an empowered parent using conscious parenting skills. You will have lifetime access to the Jai Institute for Parenting 12-Week program.
URL:https://allcove.org/event/virtual-group-family-coaching/2023-12-26/
LOCATION:allcove online
CATEGORIES:allcove Beach Cities,allcove online,family support
ATTACH;FMTTYPE=image/jpeg:https://allcove.org/wp-content/uploads/2023/08/familycoaching.jpg
END:VEVENT
BEGIN:VEVENT
DTSTART;TZID=America/Los_Angeles:20231219T130000
DTEND;TZID=America/Los_Angeles:20231219T140000
DTSTAMP:20260425T060522
CREATED:20230810T222702Z
LAST-MODIFIED:20230817T234715Z
UID:10001902-1702990800-1702994400@allcove.org
SUMMARY:virtual group family coaching
DESCRIPTION:In this 12-week course\, you will achieve your own personal parenting transformation – to be an empowered parent using conscious parenting skills. You will have lifetime access to the Jai Institute for Parenting 12-Week program.
URL:https://allcove.org/event/virtual-group-family-coaching/2023-12-19/
LOCATION:allcove online
CATEGORIES:allcove Beach Cities,allcove online,family support
ATTACH;FMTTYPE=image/jpeg:https://allcove.org/wp-content/uploads/2023/08/familycoaching.jpg
END:VEVENT
BEGIN:VEVENT
DTSTART;TZID=America/Los_Angeles:20231213T170000
DTEND;TZID=America/Los_Angeles:20231213T180000
DTSTAMP:20260425T060522
CREATED:20231206T171958Z
LAST-MODIFIED:20231206T172002Z
UID:10001999-1702486800-1702490400@allcove.org
SUMMARY:fentanyl & opioids: what we should know
DESCRIPTION:Come chat with our medical professionals about the effects of opioids on the brain and body. \n\n\n\nFor parents\, guardians\, providers and interested community members \n\n\n\n\nThis workshop takes place in person at allcove Palo Alto and online. Using audio visual tools\, we will provide a virtual opportunity for those interested in attending online.
URL:https://allcove.org/event/fentanyl-opioids-what-we-should-know-2/
LOCATION:allcove Palo Alto\, 2741 Middlefield Road\, Suite 102\, Palo Alto\, CA\, 94306\, United States
CATEGORIES:allcove online,allcove Palo Alto,substance use
ATTACH;FMTTYPE=image/png:https://allcove.org/wp-content/uploads/2023/10/fentanyl-opioids-thumbnail.png
END:VEVENT
BEGIN:VEVENT
DTSTART;TZID=America/Los_Angeles:20231212T130000
DTEND;TZID=America/Los_Angeles:20231212T140000
DTSTAMP:20260425T060522
CREATED:20230810T222702Z
LAST-MODIFIED:20230817T234715Z
UID:10001901-1702386000-1702389600@allcove.org
SUMMARY:virtual group family coaching
DESCRIPTION:In this 12-week course\, you will achieve your own personal parenting transformation – to be an empowered parent using conscious parenting skills. You will have lifetime access to the Jai Institute for Parenting 12-Week program.
URL:https://allcove.org/event/virtual-group-family-coaching/2023-12-12/
LOCATION:allcove online
CATEGORIES:allcove Beach Cities,allcove online,family support
ATTACH;FMTTYPE=image/jpeg:https://allcove.org/wp-content/uploads/2023/08/familycoaching.jpg
END:VEVENT
BEGIN:VEVENT
DTSTART;TZID=America/Los_Angeles:20231206T170000
DTEND;TZID=America/Los_Angeles:20231206T180000
DTSTAMP:20260425T060522
CREATED:20230829T170707Z
LAST-MODIFIED:20230829T170711Z
UID:10001812-1701882000-1701885600@allcove.org
SUMMARY:how do I get better sleep?
DESCRIPTION:Sleep is an essential part of our overall health. Join us to learn about ways to improve your sleeping habits\, understanding the importance of sleep routines and ways improve your sleep hygiene.  \n\n\n\nThis workshop is for youth ages 15-25. \n\n\n\n\nThis workshop takes place in person at allcove Palo Alto and online. Using audio visual tools\, we will provide a virtual opportunity for those interested in attending online. 
URL:https://allcove.org/event/how-do-i-get-better-sleep-3/
LOCATION:allcove Palo Alto\, 2741 Middlefield Road\, Suite 102\, Palo Alto\, CA\, 94306\, United States
CATEGORIES:allcove online,allcove Palo Alto,mental health
ATTACH;FMTTYPE=image/png:https://allcove.org/wp-content/uploads/2023/08/how-do-i-get-better-sleep-thumbnail.png
END:VEVENT
BEGIN:VEVENT
DTSTART;TZID=America/Los_Angeles:20231205T130000
DTEND;TZID=America/Los_Angeles:20231205T140000
DTSTAMP:20260425T060522
CREATED:20230810T222702Z
LAST-MODIFIED:20230817T234715Z
UID:10001900-1701781200-1701784800@allcove.org
SUMMARY:virtual group family coaching
DESCRIPTION:In this 12-week course\, you will achieve your own personal parenting transformation – to be an empowered parent using conscious parenting skills. You will have lifetime access to the Jai Institute for Parenting 12-Week program.
URL:https://allcove.org/event/virtual-group-family-coaching/2023-12-05/
LOCATION:allcove online
CATEGORIES:allcove Beach Cities,allcove online,family support
ATTACH;FMTTYPE=image/jpeg:https://allcove.org/wp-content/uploads/2023/08/familycoaching.jpg
END:VEVENT
BEGIN:VEVENT
DTSTART;TZID=America/Los_Angeles:20231128T130000
DTEND;TZID=America/Los_Angeles:20231128T140000
DTSTAMP:20260425T060522
CREATED:20230810T222702Z
LAST-MODIFIED:20230817T234715Z
UID:10001899-1701176400-1701180000@allcove.org
SUMMARY:virtual group family coaching
DESCRIPTION:In this 12-week course\, you will achieve your own personal parenting transformation – to be an empowered parent using conscious parenting skills. You will have lifetime access to the Jai Institute for Parenting 12-Week program.
URL:https://allcove.org/event/virtual-group-family-coaching/2023-11-28/
LOCATION:allcove online
CATEGORIES:allcove Beach Cities,allcove online,family support
ATTACH;FMTTYPE=image/jpeg:https://allcove.org/wp-content/uploads/2023/08/familycoaching.jpg
END:VEVENT
BEGIN:VEVENT
DTSTART;TZID=America/Los_Angeles:20231121T130000
DTEND;TZID=America/Los_Angeles:20231121T140000
DTSTAMP:20260425T060522
CREATED:20230810T222702Z
LAST-MODIFIED:20230817T234715Z
UID:10001759-1700571600-1700575200@allcove.org
SUMMARY:virtual group family coaching
DESCRIPTION:In this 12-week course\, you will achieve your own personal parenting transformation – to be an empowered parent using conscious parenting skills. You will have lifetime access to the Jai Institute for Parenting 12-Week program.
URL:https://allcove.org/event/virtual-group-family-coaching/2023-11-21/
LOCATION:allcove online
CATEGORIES:allcove Beach Cities,allcove online,family support
ATTACH;FMTTYPE=image/jpeg:https://allcove.org/wp-content/uploads/2023/08/familycoaching.jpg
END:VEVENT
BEGIN:VEVENT
DTSTART;TZID=America/Los_Angeles:20231115T170000
DTEND;TZID=America/Los_Angeles:20231115T180000
DTSTAMP:20260425T060522
CREATED:20230829T170922Z
LAST-MODIFIED:20230829T170925Z
UID:10001809-1700067600-1700071200@allcove.org
SUMMARY:how do i support my youth? (for parents and guardians)
DESCRIPTION:Join us for a workshop that provides parents and guardians with strategies for approaching the topic of mental health and wellbeing with our youth. Learn how to manage stressful situations in a supportive environment. \n\n\n\n\nThis workshop takes place online. Using audio visual tools\, we will provide a virtual opportunity for those interested in attending online.
URL:https://allcove.org/event/how-do-i-support-my-youth-for-parents-and-guardians/2023-11-15/
LOCATION:allcove online
CATEGORIES:allcove online,allcove Palo Alto,mental health
ATTACH;FMTTYPE=image/png:https://allcove.org/wp-content/uploads/2023/01/how-do-i-support-my-youth-who-is-struggling-palo-alto.png
END:VEVENT
BEGIN:VEVENT
DTSTART;TZID=America/Los_Angeles:20231114T130000
DTEND;TZID=America/Los_Angeles:20231114T140000
DTSTAMP:20260425T060522
CREATED:20230810T222702Z
LAST-MODIFIED:20230817T234715Z
UID:10001758-1699966800-1699970400@allcove.org
SUMMARY:virtual group family coaching
DESCRIPTION:In this 12-week course\, you will achieve your own personal parenting transformation – to be an empowered parent using conscious parenting skills. You will have lifetime access to the Jai Institute for Parenting 12-Week program.
URL:https://allcove.org/event/virtual-group-family-coaching/2023-11-14/
LOCATION:allcove online
CATEGORIES:allcove Beach Cities,allcove online,family support
ATTACH;FMTTYPE=image/jpeg:https://allcove.org/wp-content/uploads/2023/08/familycoaching.jpg
END:VEVENT
BEGIN:VEVENT
DTSTART;TZID=America/Los_Angeles:20231108T170000
DTEND;TZID=America/Los_Angeles:20231108T180000
DTSTAMP:20260425T060522
CREATED:20231025T230625Z
LAST-MODIFIED:20231025T230628Z
UID:10001886-1699462800-1699466400@allcove.org
SUMMARY:fentanyl & opioids: what we should know
DESCRIPTION:Come chat with our medical professionals about the effects of opioids on the brain and body. \n\n\n\nFor youth ages 17 to 25 \n\n\n\n\nThis workshop takes place in person at allcove Palo Alto and online. Using audio visual tools\, we will provide a virtual opportunity for those interested in attending online.
URL:https://allcove.org/event/fentanyl-opioids-what-we-should-know/
LOCATION:allcove Palo Alto\, 2741 Middlefield Road\, Suite 102\, Palo Alto\, CA\, 94306\, United States
CATEGORIES:allcove online,allcove Palo Alto,substance use
ATTACH;FMTTYPE=image/png:https://allcove.org/wp-content/uploads/2023/10/fentanyl-opioids-thumbnail.png
END:VEVENT
BEGIN:VEVENT
DTSTART;TZID=America/Los_Angeles:20231101T170000
DTEND;TZID=America/Los_Angeles:20231101T180000
DTSTAMP:20260425T060522
CREATED:20230829T174054Z
LAST-MODIFIED:20230829T174056Z
UID:10001811-1698858000-1698861600@allcove.org
SUMMARY:power-saving mode: avoid burnout
DESCRIPTION:This workshop provides youth with strategies on identifying when one is under the effects of burnout and provides ways of overcoming its effects while engaging in a supportive environment.  \n\n\n\nFor youth ages 15 – 25. \n\n\n\n\nThis workshop takes place in person at allcove Palo Alto and online. Using audio visual tools\, we will provide a virtual opportunity for those interested in attending online. 
URL:https://allcove.org/event/power-saving-mode-avoid-burnout/
LOCATION:allcove Palo Alto\, 2741 Middlefield Road\, Suite 102\, Palo Alto\, CA\, 94306\, United States
CATEGORIES:allcove online,allcove Palo Alto,mental health,physical health
ATTACH;FMTTYPE=image/png:https://allcove.org/wp-content/uploads/2023/01/power-saving-mode-avoiding-burnout-palo-alto.png
END:VEVENT
BEGIN:VEVENT
DTSTART;TZID=America/Los_Angeles:20231018T170000
DTEND;TZID=America/Los_Angeles:20231018T180000
DTSTAMP:20260425T060522
CREATED:20230504T195505Z
LAST-MODIFIED:20230504T195506Z
UID:10001507-1697648400-1697652000@allcove.org
SUMMARY:what is psychiatry?
DESCRIPTION:Learn about psychiatry and what to expect in a psychiatric evaluation. Understand the approach to mental health from a medical lens. This workshop will include a question and answer with a psychiatrist. \n\n\n\n\nNote: This workshop does not replace\, nor does it equal an individualized mental health assessment\, treatment or legal advice. If you are requesting a personalized evaluation\, start with your doctor. Additionally\, you may visit our center to learn more about our services.
URL:https://allcove.org/event/what-is-psychiatry/2023-10-18/
LOCATION:allcove Palo Alto\, 2741 Middlefield Road\, Suite 102\, Palo Alto\, CA\, 94306\, United States
CATEGORIES:allcove online,allcove Palo Alto,mental health,physical health
ATTACH;FMTTYPE=image/png:https://allcove.org/wp-content/uploads/2023/04/what-is-psychiatry.png
END:VEVENT
BEGIN:VEVENT
DTSTART;TZID=America/Los_Angeles:20231011T170000
DTEND;TZID=America/Los_Angeles:20231011T180000
DTSTAMP:20260425T060522
CREATED:20230504T010046Z
LAST-MODIFIED:20230504T010048Z
UID:10001501-1697043600-1697047200@allcove.org
SUMMARY:what is therapy?
DESCRIPTION:Let’s talk about therapy – what does it mean and what you can expect in a therapy session. Get resources on accessing mental health support in the community. This workshop will include a question and answer with a clinician. \n\n\n\nThis workshop is part of “demystifying mental health\,” a series of workshops promoting mental health education and awareness through open discussion with our team. \n\n\n\n\nNote: This workshop does not replace getting treatment by a mental health provider. The information shared does not constitute individualized therapeutic or legal advice. If you need mental health care\, you can start with your doctor\, or stop by our center to learn more about our services.
URL:https://allcove.org/event/what-is-therapy/2023-10-11/
LOCATION:allcove Palo Alto\, 2741 Middlefield Road\, Suite 102\, Palo Alto\, CA\, 94306\, United States
CATEGORIES:allcove online,allcove Palo Alto,mental health
ATTACH;FMTTYPE=image/png:https://allcove.org/wp-content/uploads/2023/04/what-is-therapy.png
END:VEVENT
BEGIN:VEVENT
DTSTART;TZID=America/Los_Angeles:20231004T170000
DTEND;TZID=America/Los_Angeles:20231004T180000
DTSTAMP:20260425T060522
CREATED:20230829T173952Z
LAST-MODIFIED:20230829T173955Z
UID:10001810-1696438800-1696442400@allcove.org
SUMMARY:estar en atención plena (en español)
DESCRIPTION:Durante esta sesión\, se dará la oportunidad de aprender sobre acto de estar en atención plena. Se le dará énfasis en los beneficios e identificar técnicas para la práctica de atención plena en un ambiente de apoyo aquí en allcove Palo Alto.  \n\n\n\nEdades 12 – 25\, en español \n\n\n\n\nThis workshop takes place in person at allcove Palo Alto and online. Using audio visual tools\, we will provide a virtual opportunity for those interested in attending online. 
URL:https://allcove.org/event/estar-en-atencion-plena-en-espanol/
LOCATION:allcove Palo Alto\, 2741 Middlefield Road\, Suite 102\, Palo Alto\, CA\, 94306\, United States
CATEGORIES:allcove online,allcove Palo Alto,mental health
ATTACH;FMTTYPE=image/png:https://allcove.org/wp-content/uploads/2023/08/estar-en-atencion-plena-thumbnail.png
END:VEVENT
BEGIN:VEVENT
DTSTART;TZID=America/Los_Angeles:20230920T170000
DTEND;TZID=America/Los_Angeles:20230920T180000
DTSTAMP:20260425T060522
CREATED:20230829T170922Z
LAST-MODIFIED:20230829T170925Z
UID:10001808-1695229200-1695232800@allcove.org
SUMMARY:how do i support my youth? (for parents and guardians)
DESCRIPTION:Join us for a workshop that provides parents and guardians with strategies for approaching the topic of mental health and wellbeing with our youth. Learn how to manage stressful situations in a supportive environment. \n\n\n\n\nThis workshop takes place online. Using audio visual tools\, we will provide a virtual opportunity for those interested in attending online.
URL:https://allcove.org/event/how-do-i-support-my-youth-for-parents-and-guardians/2023-09-20/
LOCATION:allcove online
CATEGORIES:allcove online,allcove Palo Alto,mental health
ATTACH;FMTTYPE=image/png:https://allcove.org/wp-content/uploads/2023/01/how-do-i-support-my-youth-who-is-struggling-palo-alto.png
END:VEVENT
BEGIN:VEVENT
DTSTART;TZID=America/Los_Angeles:20230913T170000
DTEND;TZID=America/Los_Angeles:20230913T180000
DTSTAMP:20260425T060522
CREATED:20230504T012616Z
LAST-MODIFIED:20230504T012617Z
UID:10001503-1694624400-1694628000@allcove.org
SUMMARY:what is therapy? (for guardians and parents)
DESCRIPTION:For guardians and parents \n\n\n\nAre you exploring ways to support your youth’s mental wellbeing? Let’s talk about therapy. What does it mean and what your youth can expect in a therapy session. Get resources on how to access mental health support in the community. This workshop will include a question and answer with a clinician. \n\n\n\nThis workshop is part of “demystifying mental health\,” a series of workshops promoting mental health education and awareness through open discussion with our team. This workshop takes place in-person and online. Access the registration link below to receive online meeting details. \n\n\n\n\nNote: This workshop does not replace getting treatment by a mental health provider. The information shared does not constitute individualized therapeutic or legal advice. If your youth needs mental health care\, you may start with your doctor\, or stop by our center to learn about our services.
URL:https://allcove.org/event/what-is-therapy-for-guardians-and-parents/2023-09-13/
LOCATION:allcove Palo Alto\, 2741 Middlefield Road\, Suite 102\, Palo Alto\, CA\, 94306\, United States
CATEGORIES:allcove online,allcove Palo Alto,mental health
ATTACH;FMTTYPE=image/png:https://allcove.org/wp-content/uploads/2023/04/what-is-therapy.png
END:VEVENT
BEGIN:VEVENT
DTSTART;TZID=America/Los_Angeles:20230906T170000
DTEND;TZID=America/Los_Angeles:20230906T180000
DTSTAMP:20260425T060522
CREATED:20230504T195227Z
LAST-MODIFIED:20230504T195228Z
UID:10001509-1694019600-1694023200@allcove.org
SUMMARY:what is psychiatry? (for guardians and parents)
DESCRIPTION:For guardians and parents \n\n\n\nAre you exploring psychiatric options for your youth? Learn about psychiatry and what to expect in a psychiatric evaluation. Understand the approach to mental health from a medical lens. This workshop will include a question and answer with a psychiatrist.  \n\n\n\n\nNote: This workshop does not replace\, nor does it equal an individualized mental health assessment\, treatment or legal advice. If you are requesting a personalized evaluation\, start with your doctor. Additionally\, you may visit our center to learn more about our services.
URL:https://allcove.org/event/what-is-psychiatry-for-guardians-and-parents/2023-09-06/
LOCATION:allcove Palo Alto\, 2741 Middlefield Road\, Suite 102\, Palo Alto\, CA\, 94306\, United States
CATEGORIES:allcove online,allcove Palo Alto,mental health,physical health
ATTACH;FMTTYPE=image/png:https://allcove.org/wp-content/uploads/2023/04/what-is-psychiatry.png
END:VEVENT
END:VCALENDAR