BEGIN:VCALENDAR
VERSION:2.0
PRODID:-//allcove - ECPv6.15.20//NONSGML v1.0//EN
CALSCALE:GREGORIAN
METHOD:PUBLISH
X-WR-CALNAME:allcove
X-ORIGINAL-URL:https://allcove.org
X-WR-CALDESC:Events for allcove
REFRESH-INTERVAL;VALUE=DURATION:PT1H
X-Robots-Tag:noindex
X-PUBLISHED-TTL:PT1H
BEGIN:VTIMEZONE
TZID:America/Los_Angeles
BEGIN:DAYLIGHT
TZOFFSETFROM:-0800
TZOFFSETTO:-0700
TZNAME:PDT
DTSTART:20250309T100000
END:DAYLIGHT
BEGIN:STANDARD
TZOFFSETFROM:-0700
TZOFFSETTO:-0800
TZNAME:PST
DTSTART:20251102T090000
END:STANDARD
BEGIN:DAYLIGHT
TZOFFSETFROM:-0800
TZOFFSETTO:-0700
TZNAME:PDT
DTSTART:20260308T100000
END:DAYLIGHT
BEGIN:STANDARD
TZOFFSETFROM:-0700
TZOFFSETTO:-0800
TZNAME:PST
DTSTART:20261101T090000
END:STANDARD
BEGIN:DAYLIGHT
TZOFFSETFROM:-0800
TZOFFSETTO:-0700
TZNAME:PDT
DTSTART:20270314T100000
END:DAYLIGHT
BEGIN:STANDARD
TZOFFSETFROM:-0700
TZOFFSETTO:-0800
TZNAME:PST
DTSTART:20271107T090000
END:STANDARD
END:VTIMEZONE
BEGIN:VEVENT
DTSTART;TZID=America/Los_Angeles:20260302T173000
DTEND;TZID=America/Los_Angeles:20260302T183000
DTSTAMP:20260425T043849
CREATED:20260209T175253Z
LAST-MODIFIED:20260209T175255Z
UID:10005284-1772472600-1772476200@allcove.org
SUMMARY:dopamine done right workshop
DESCRIPTION:Ever wonder why it’s so hard to put down your phone or why some things just feel good? It’s all about Dopamine: your brain’s chemical “reward”. We’ll dive into how gaming\, tech and every day habits affect your mood and motivation!
URL:https://allcove.org/event/dopamine-done-right-workshop/
LOCATION:allcove San Mateo\, 2600 S El Camino Real Suite 300\, San Mateo\, CA\, 94403\, United States
CATEGORIES:allcove San Mateo
ATTACH;FMTTYPE=image/png:https://allcove.org/wp-content/uploads/2026/02/dopamine-done-right-workshop-Isabella-Tablante.png
END:VEVENT
BEGIN:VEVENT
DTSTART;TZID=America/Los_Angeles:20260302T174500
DTEND;TZID=America/Los_Angeles:20260302T184500
DTSTAMP:20260425T043849
CREATED:20250806T184303Z
LAST-MODIFIED:20260129T175611Z
UID:10003688-1772473500-1772477100@allcove.org
SUMMARY:parent support group
DESCRIPTION:Join our parent support group once a week to connect with others who understand what you’re going through. This space is designed for parents to share experiences\, learn practical strategies\, and find strength in community. Together\, we’ll explore ways to better support your child – and ourselves – every step of the way.What to Expect: \n\n\n\n\nConfidentiality\n\n\n\nOpen and respectful conversations\n\n\n\nSupport and advice from other parents
URL:https://allcove.org/event/parent-support-group-4/2026-03-02/
LOCATION:allcove San Mateo\, 2600 S El Camino Real Suite 300\, San Mateo\, CA\, 94403\, United States
CATEGORIES:allcove San Mateo,family support
ATTACH;FMTTYPE=image/png:https://allcove.org/wp-content/uploads/2025/08/parent-support-group-website-graphic-1-Isabella-Tablante.png
END:VEVENT
BEGIN:VEVENT
DTSTART;TZID=America/Los_Angeles:20260303T174500
DTEND;TZID=America/Los_Angeles:20260303T184500
DTSTAMP:20260425T043849
CREATED:20250806T184950Z
LAST-MODIFIED:20250806T184953Z
UID:10004210-1772559900-1772563500@allcove.org
SUMMARY:grupo de apoyo para padres
DESCRIPTION:Únete a nuestro grupo de apoyo para padres una vez a la semana para conectarte con otras personas que entienden por lo que estás pasando.Este espacio está diseñado para que los padres compartan experiencias\, aprendan estrategias prácticas y encuentren fortaleza en la comunidad. Juntos exploraremos maneras de brindar un mejor apoyo a su hijo/hija—y a nosotros mismos—en cada paso del camino. \n\n\n\nQué Puedes Esperar: \n\n\n\n\nConfidencialidad\n\n\n\nConversaciones abiertas y respetuosas\n\n\n\nApoyo y consejos de otros padres
URL:https://allcove.org/event/grupo-de-apoyo-para-padres/2026-03-03/
LOCATION:allcove San Mateo\, 2600 S El Camino Real Suite 300\, San Mateo\, CA\, 94403\, United States
CATEGORIES:allcove San Mateo,family support
ATTACH;FMTTYPE=image/png:https://allcove.org/wp-content/uploads/2025/08/grupo-de-apoyo-para-padres-1-Isabella-Tablante.png
END:VEVENT
BEGIN:VEVENT
DTSTART;TZID=America/Los_Angeles:20260305T173000
DTEND;TZID=America/Los_Angeles:20260305T183000
DTSTAMP:20260425T043849
CREATED:20260209T175044Z
LAST-MODIFIED:20260209T175046Z
UID:10005283-1772731800-1772735400@allcove.org
SUMMARY:your path to employment: tools\, tips\, and strategies
DESCRIPTION:Join our workshop to learn practical\, real-world tips for landing a job! If you’re applying for your first job or trying to get hired\, you’ll learn how to search for jobs strategically\, improve your resume and interview skills\, avoid common mistakes\, and feel more confident navigating today’s job market.
URL:https://allcove.org/event/your-path-to-employment-tools-tips-and-strategies/
LOCATION:allcove San Mateo\, 2600 S El Camino Real Suite 300\, San Mateo\, CA\, 94403\, United States
CATEGORIES:allcove San Mateo,education and employment
ATTACH;FMTTYPE=image/png:https://allcove.org/wp-content/uploads/2026/02/employment-workshop-Isabella-Tablante.png
END:VEVENT
BEGIN:VEVENT
DTSTART;TZID=America/Los_Angeles:20260306T153000
DTEND;TZID=America/Los_Angeles:20260306T183000
DTSTAMP:20260425T043849
CREATED:20251105T191647Z
LAST-MODIFIED:20251105T191650Z
UID:10005011-1772811000-1772821800@allcove.org
SUMMARY:movie night
DESCRIPTION:Join us for a cozy movie night with snacks\, great company\, and entertaining films.
URL:https://allcove.org/event/movie-night-13/2026-03-06/
LOCATION:allcove San Mateo\, 2600 S El Camino Real Suite 300\, San Mateo\, CA\, 94403\, United States
CATEGORIES:allcove San Mateo
ATTACH;FMTTYPE=image/png:https://allcove.org/wp-content/uploads/2025/11/movie-night-website-graphic-1-Isabella-Tablante.png
END:VEVENT
BEGIN:VEVENT
DTSTART;TZID=America/Los_Angeles:20260309T174500
DTEND;TZID=America/Los_Angeles:20260309T184500
DTSTAMP:20260425T043849
CREATED:20250806T184303Z
LAST-MODIFIED:20260129T175611Z
UID:10003689-1773078300-1773081900@allcove.org
SUMMARY:parent support group
DESCRIPTION:Join our parent support group once a week to connect with others who understand what you’re going through. This space is designed for parents to share experiences\, learn practical strategies\, and find strength in community. Together\, we’ll explore ways to better support your child – and ourselves – every step of the way.What to Expect: \n\n\n\n\nConfidentiality\n\n\n\nOpen and respectful conversations\n\n\n\nSupport and advice from other parents
URL:https://allcove.org/event/parent-support-group-4/2026-03-09/
LOCATION:allcove San Mateo\, 2600 S El Camino Real Suite 300\, San Mateo\, CA\, 94403\, United States
CATEGORIES:allcove San Mateo,family support
ATTACH;FMTTYPE=image/png:https://allcove.org/wp-content/uploads/2025/08/parent-support-group-website-graphic-1-Isabella-Tablante.png
END:VEVENT
BEGIN:VEVENT
DTSTART;TZID=America/Los_Angeles:20260310T173000
DTEND;TZID=America/Los_Angeles:20260310T183000
DTSTAMP:20260425T043849
CREATED:20260225T221814Z
LAST-MODIFIED:20260225T223544Z
UID:10005294-1773163800-1773167400@allcove.org
SUMMARY:unMASKing healthy relationships workshop
DESCRIPTION:Join us for this speaker event with Ashanti Branch\, founder of the Ever Forward Club and the #MillionMask Movement. As parents\, caregivers\, and educators navigate the challenges of raising youth\, we share fundamental human needs for support\, expression\, recognition\, meaning and connection. 
URL:https://allcove.org/event/unmasking-healthy-relationships-workshop/
LOCATION:allcove San Mateo\, 2600 S El Camino Real Suite 300\, San Mateo\, CA\, 94403\, United States
CATEGORIES:allcove San Mateo
ATTACH;FMTTYPE=image/png:https://allcove.org/wp-content/uploads/2026/02/unmasking-healthy-relationships-workshop-Isabella-Tablante.png
END:VEVENT
BEGIN:VEVENT
DTSTART;TZID=America/Los_Angeles:20260310T174500
DTEND;TZID=America/Los_Angeles:20260310T184500
DTSTAMP:20260425T043849
CREATED:20250806T184950Z
LAST-MODIFIED:20250806T184953Z
UID:10004211-1773164700-1773168300@allcove.org
SUMMARY:grupo de apoyo para padres
DESCRIPTION:Únete a nuestro grupo de apoyo para padres una vez a la semana para conectarte con otras personas que entienden por lo que estás pasando.Este espacio está diseñado para que los padres compartan experiencias\, aprendan estrategias prácticas y encuentren fortaleza en la comunidad. Juntos exploraremos maneras de brindar un mejor apoyo a su hijo/hija—y a nosotros mismos—en cada paso del camino. \n\n\n\nQué Puedes Esperar: \n\n\n\n\nConfidencialidad\n\n\n\nConversaciones abiertas y respetuosas\n\n\n\nApoyo y consejos de otros padres
URL:https://allcove.org/event/grupo-de-apoyo-para-padres/2026-03-10/
LOCATION:allcove San Mateo\, 2600 S El Camino Real Suite 300\, San Mateo\, CA\, 94403\, United States
CATEGORIES:allcove San Mateo,family support
ATTACH;FMTTYPE=image/png:https://allcove.org/wp-content/uploads/2025/08/grupo-de-apoyo-para-padres-1-Isabella-Tablante.png
END:VEVENT
BEGIN:VEVENT
DTSTART;TZID=America/Los_Angeles:20260311T160000
DTEND;TZID=America/Los_Angeles:20260311T170000
DTSTAMP:20260425T043849
CREATED:20260106T222736Z
LAST-MODIFIED:20260106T222738Z
UID:10005228-1773244800-1773248400@allcove.org
SUMMARY:youth social hour 
DESCRIPTION:Youth Social Hour is a fun\, welcoming event where you can hang out\, make new friends\, and enjoy games\, pizza\, and creative activities after school. Whether it’s your first time at allcove or you just want a space to relax and be yourself\, everyone is welcome! The event is split into age groups on three different days\, so activities match your age and interests\, but the main goal is the same for everyone: having fun\, meeting new people\, and feeling connected in a safe\, supportive space. 
URL:https://allcove.org/event/youth-social-hour-2/
LOCATION:allcove San Mateo\, 2600 S El Camino Real Suite 300\, San Mateo\, CA\, 94403\, United States
CATEGORIES:allcove San Mateo
ATTACH;FMTTYPE=image/png:https://allcove.org/wp-content/uploads/2026/01/youth-social-hour-14-18-Isabella-Tablante.png
END:VEVENT
BEGIN:VEVENT
DTSTART;TZID=America/Los_Angeles:20260313T163000
DTEND;TZID=America/Los_Angeles:20260313T183000
DTSTAMP:20260425T043849
CREATED:20251105T185152Z
LAST-MODIFIED:20260421T170219Z
UID:10004886-1773419400-1773426600@allcove.org
SUMMARY:game night 
DESCRIPTION:Join us for a fun-filled game night! Enjoy a variety of board games\, card games\, video games\, and group activities.
URL:https://allcove.org/event/game-night-12/2026-03-13/
LOCATION:allcove San Mateo\, 2600 S El Camino Real Suite 300\, San Mateo\, CA\, 94403\, United States
CATEGORIES:allcove San Mateo
ATTACH;FMTTYPE=image/png:https://allcove.org/wp-content/uploads/2025/11/game-night-website-graphic-Isabella-Tablante.png
END:VEVENT
BEGIN:VEVENT
DTSTART;TZID=America/Los_Angeles:20260316T174500
DTEND;TZID=America/Los_Angeles:20260316T184500
DTSTAMP:20260425T043849
CREATED:20250806T184303Z
LAST-MODIFIED:20260129T175611Z
UID:10003690-1773683100-1773686700@allcove.org
SUMMARY:parent support group
DESCRIPTION:Join our parent support group once a week to connect with others who understand what you’re going through. This space is designed for parents to share experiences\, learn practical strategies\, and find strength in community. Together\, we’ll explore ways to better support your child – and ourselves – every step of the way.What to Expect: \n\n\n\n\nConfidentiality\n\n\n\nOpen and respectful conversations\n\n\n\nSupport and advice from other parents
URL:https://allcove.org/event/parent-support-group-4/2026-03-16/
LOCATION:allcove San Mateo\, 2600 S El Camino Real Suite 300\, San Mateo\, CA\, 94403\, United States
CATEGORIES:allcove San Mateo,family support
ATTACH;FMTTYPE=image/png:https://allcove.org/wp-content/uploads/2025/08/parent-support-group-website-graphic-1-Isabella-Tablante.png
END:VEVENT
BEGIN:VEVENT
DTSTART;TZID=America/Los_Angeles:20260317T174500
DTEND;TZID=America/Los_Angeles:20260317T184500
DTSTAMP:20260425T043849
CREATED:20250806T184950Z
LAST-MODIFIED:20250806T184953Z
UID:10004212-1773769500-1773773100@allcove.org
SUMMARY:grupo de apoyo para padres
DESCRIPTION:Únete a nuestro grupo de apoyo para padres una vez a la semana para conectarte con otras personas que entienden por lo que estás pasando.Este espacio está diseñado para que los padres compartan experiencias\, aprendan estrategias prácticas y encuentren fortaleza en la comunidad. Juntos exploraremos maneras de brindar un mejor apoyo a su hijo/hija—y a nosotros mismos—en cada paso del camino. \n\n\n\nQué Puedes Esperar: \n\n\n\n\nConfidencialidad\n\n\n\nConversaciones abiertas y respetuosas\n\n\n\nApoyo y consejos de otros padres
URL:https://allcove.org/event/grupo-de-apoyo-para-padres/2026-03-17/
LOCATION:allcove San Mateo\, 2600 S El Camino Real Suite 300\, San Mateo\, CA\, 94403\, United States
CATEGORIES:allcove San Mateo,family support
ATTACH;FMTTYPE=image/png:https://allcove.org/wp-content/uploads/2025/08/grupo-de-apoyo-para-padres-1-Isabella-Tablante.png
END:VEVENT
BEGIN:VEVENT
DTSTART;TZID=America/Los_Angeles:20260318T160000
DTEND;TZID=America/Los_Angeles:20260318T170000
DTSTAMP:20260425T043849
CREATED:20260105T221247Z
LAST-MODIFIED:20260105T221249Z
UID:10005173-1773849600-1773853200@allcove.org
SUMMARY:painting at the cove 
DESCRIPTION:Join us for a fun and creative painting session where you can relax\, enjoy snacks\, and create your own masterpiece to take home.
URL:https://allcove.org/event/painting-at-the-cove-8/
LOCATION:allcove San Mateo\, 2600 S El Camino Real Suite 300\, San Mateo\, CA\, 94403\, United States
CATEGORIES:allcove San Mateo
ATTACH;FMTTYPE=image/png:https://allcove.org/wp-content/uploads/2025/11/painting-at-the-cove-website-graphic-Isabella-Tablante-1.png
END:VEVENT
BEGIN:VEVENT
DTSTART;TZID=America/Los_Angeles:20260320T153000
DTEND;TZID=America/Los_Angeles:20260320T183000
DTSTAMP:20260425T043849
CREATED:20251105T191647Z
LAST-MODIFIED:20251105T191650Z
UID:10005012-1774020600-1774031400@allcove.org
SUMMARY:movie night
DESCRIPTION:Join us for a cozy movie night with snacks\, great company\, and entertaining films.
URL:https://allcove.org/event/movie-night-13/2026-03-20/
LOCATION:allcove San Mateo\, 2600 S El Camino Real Suite 300\, San Mateo\, CA\, 94403\, United States
CATEGORIES:allcove San Mateo
ATTACH;FMTTYPE=image/png:https://allcove.org/wp-content/uploads/2025/11/movie-night-website-graphic-1-Isabella-Tablante.png
END:VEVENT
BEGIN:VEVENT
DTSTART;TZID=America/Los_Angeles:20260323T174500
DTEND;TZID=America/Los_Angeles:20260323T184500
DTSTAMP:20260425T043849
CREATED:20250806T184303Z
LAST-MODIFIED:20260129T175611Z
UID:10003691-1774287900-1774291500@allcove.org
SUMMARY:parent support group
DESCRIPTION:Join our parent support group once a week to connect with others who understand what you’re going through. This space is designed for parents to share experiences\, learn practical strategies\, and find strength in community. Together\, we’ll explore ways to better support your child – and ourselves – every step of the way.What to Expect: \n\n\n\n\nConfidentiality\n\n\n\nOpen and respectful conversations\n\n\n\nSupport and advice from other parents
URL:https://allcove.org/event/parent-support-group-4/2026-03-23/
LOCATION:allcove San Mateo\, 2600 S El Camino Real Suite 300\, San Mateo\, CA\, 94403\, United States
CATEGORIES:allcove San Mateo,family support
ATTACH;FMTTYPE=image/png:https://allcove.org/wp-content/uploads/2025/08/parent-support-group-website-graphic-1-Isabella-Tablante.png
END:VEVENT
BEGIN:VEVENT
DTSTART;TZID=America/Los_Angeles:20260324T174500
DTEND;TZID=America/Los_Angeles:20260324T184500
DTSTAMP:20260425T043849
CREATED:20250806T184950Z
LAST-MODIFIED:20250806T184953Z
UID:10004213-1774374300-1774377900@allcove.org
SUMMARY:grupo de apoyo para padres
DESCRIPTION:Únete a nuestro grupo de apoyo para padres una vez a la semana para conectarte con otras personas que entienden por lo que estás pasando.Este espacio está diseñado para que los padres compartan experiencias\, aprendan estrategias prácticas y encuentren fortaleza en la comunidad. Juntos exploraremos maneras de brindar un mejor apoyo a su hijo/hija—y a nosotros mismos—en cada paso del camino. \n\n\n\nQué Puedes Esperar: \n\n\n\n\nConfidencialidad\n\n\n\nConversaciones abiertas y respetuosas\n\n\n\nApoyo y consejos de otros padres
URL:https://allcove.org/event/grupo-de-apoyo-para-padres/2026-03-24/
LOCATION:allcove San Mateo\, 2600 S El Camino Real Suite 300\, San Mateo\, CA\, 94403\, United States
CATEGORIES:allcove San Mateo,family support
ATTACH;FMTTYPE=image/png:https://allcove.org/wp-content/uploads/2025/08/grupo-de-apoyo-para-padres-1-Isabella-Tablante.png
END:VEVENT
BEGIN:VEVENT
DTSTART;TZID=America/Los_Angeles:20260327T160000
DTEND;TZID=America/Los_Angeles:20260327T170000
DTSTAMP:20260425T043849
CREATED:20260106T222903Z
LAST-MODIFIED:20260106T222905Z
UID:10005229-1774627200-1774630800@allcove.org
SUMMARY:youth social hour 
DESCRIPTION:Youth Social Hour is a fun\, welcoming event where you can hang out\, make new friends\, and enjoy games\, pizza\, and creative activities after school. Whether it’s your first time at allcove or you just want a space to relax and be yourself\, everyone is welcome! The event is split into age groups on three different days\, so activities match your age and interests\, but the main goal is the same for everyone: having fun\, meeting new people\, and feeling connected in a safe\, supportive space. 
URL:https://allcove.org/event/youth-social-hour-3/
LOCATION:allcove San Mateo\, 2600 S El Camino Real Suite 300\, San Mateo\, CA\, 94403\, United States
CATEGORIES:allcove San Mateo
ATTACH;FMTTYPE=image/png:https://allcove.org/wp-content/uploads/2026/01/youth-social-hour-18-25-Isabella-Tablante.png
END:VEVENT
BEGIN:VEVENT
DTSTART;TZID=America/Los_Angeles:20260330T174500
DTEND;TZID=America/Los_Angeles:20260330T184500
DTSTAMP:20260425T043849
CREATED:20250806T184303Z
LAST-MODIFIED:20260129T175611Z
UID:10003692-1774892700-1774896300@allcove.org
SUMMARY:parent support group
DESCRIPTION:Join our parent support group once a week to connect with others who understand what you’re going through. This space is designed for parents to share experiences\, learn practical strategies\, and find strength in community. Together\, we’ll explore ways to better support your child – and ourselves – every step of the way.What to Expect: \n\n\n\n\nConfidentiality\n\n\n\nOpen and respectful conversations\n\n\n\nSupport and advice from other parents
URL:https://allcove.org/event/parent-support-group-4/2026-03-30/
LOCATION:allcove San Mateo\, 2600 S El Camino Real Suite 300\, San Mateo\, CA\, 94403\, United States
CATEGORIES:allcove San Mateo,family support
ATTACH;FMTTYPE=image/png:https://allcove.org/wp-content/uploads/2025/08/parent-support-group-website-graphic-1-Isabella-Tablante.png
END:VEVENT
BEGIN:VEVENT
DTSTART;TZID=America/Los_Angeles:20260331T174500
DTEND;TZID=America/Los_Angeles:20260331T184500
DTSTAMP:20260425T043849
CREATED:20250806T184950Z
LAST-MODIFIED:20250806T184953Z
UID:10004214-1774979100-1774982700@allcove.org
SUMMARY:grupo de apoyo para padres
DESCRIPTION:Únete a nuestro grupo de apoyo para padres una vez a la semana para conectarte con otras personas que entienden por lo que estás pasando.Este espacio está diseñado para que los padres compartan experiencias\, aprendan estrategias prácticas y encuentren fortaleza en la comunidad. Juntos exploraremos maneras de brindar un mejor apoyo a su hijo/hija—y a nosotros mismos—en cada paso del camino. \n\n\n\nQué Puedes Esperar: \n\n\n\n\nConfidencialidad\n\n\n\nConversaciones abiertas y respetuosas\n\n\n\nApoyo y consejos de otros padres
URL:https://allcove.org/event/grupo-de-apoyo-para-padres/2026-03-31/
LOCATION:allcove San Mateo\, 2600 S El Camino Real Suite 300\, San Mateo\, CA\, 94403\, United States
CATEGORIES:allcove San Mateo,family support
ATTACH;FMTTYPE=image/png:https://allcove.org/wp-content/uploads/2025/08/grupo-de-apoyo-para-padres-1-Isabella-Tablante.png
END:VEVENT
END:VCALENDAR